BEGIN:VCALENDAR
VERSION:2.0
PRODID:-//DOJOKUN - ECPv6.15.20//NONSGML v1.0//EN
CALSCALE:GREGORIAN
METHOD:PUBLISH
X-WR-CALNAME:DOJOKUN
X-ORIGINAL-URL:https://dojokun.fr
X-WR-CALDESC:Évènements pour DOJOKUN
REFRESH-INTERVAL;VALUE=DURATION:PT1H
X-Robots-Tag:noindex
X-PUBLISHED-TTL:PT1H
BEGIN:VTIMEZONE
TZID:Europe/Paris
BEGIN:DAYLIGHT
TZOFFSETFROM:+0100
TZOFFSETTO:+0200
TZNAME:CEST
DTSTART:20240331T010000
END:DAYLIGHT
BEGIN:STANDARD
TZOFFSETFROM:+0200
TZOFFSETTO:+0100
TZNAME:CET
DTSTART:20241027T010000
END:STANDARD
BEGIN:DAYLIGHT
TZOFFSETFROM:+0100
TZOFFSETTO:+0200
TZNAME:CEST
DTSTART:20250330T010000
END:DAYLIGHT
BEGIN:STANDARD
TZOFFSETFROM:+0200
TZOFFSETTO:+0100
TZNAME:CET
DTSTART:20251026T010000
END:STANDARD
BEGIN:DAYLIGHT
TZOFFSETFROM:+0100
TZOFFSETTO:+0200
TZNAME:CEST
DTSTART:20260329T010000
END:DAYLIGHT
BEGIN:STANDARD
TZOFFSETFROM:+0200
TZOFFSETTO:+0100
TZNAME:CET
DTSTART:20261025T010000
END:STANDARD
BEGIN:DAYLIGHT
TZOFFSETFROM:+0100
TZOFFSETTO:+0200
TZNAME:CEST
DTSTART:20270328T010000
END:DAYLIGHT
BEGIN:STANDARD
TZOFFSETFROM:+0200
TZOFFSETTO:+0100
TZNAME:CET
DTSTART:20271031T010000
END:STANDARD
END:VTIMEZONE
BEGIN:VTIMEZONE
TZID:America/Iqaluit
BEGIN:DAYLIGHT
TZOFFSETFROM:-0500
TZOFFSETTO:-0400
TZNAME:EDT
DTSTART:20240310T070000
END:DAYLIGHT
BEGIN:STANDARD
TZOFFSETFROM:-0400
TZOFFSETTO:-0500
TZNAME:EST
DTSTART:20241103T060000
END:STANDARD
BEGIN:DAYLIGHT
TZOFFSETFROM:-0500
TZOFFSETTO:-0400
TZNAME:EDT
DTSTART:20250309T070000
END:DAYLIGHT
BEGIN:STANDARD
TZOFFSETFROM:-0400
TZOFFSETTO:-0500
TZNAME:EST
DTSTART:20251102T060000
END:STANDARD
BEGIN:DAYLIGHT
TZOFFSETFROM:-0500
TZOFFSETTO:-0400
TZNAME:EDT
DTSTART:20260308T070000
END:DAYLIGHT
BEGIN:STANDARD
TZOFFSETFROM:-0400
TZOFFSETTO:-0500
TZNAME:EST
DTSTART:20261101T060000
END:STANDARD
END:VTIMEZONE
BEGIN:VEVENT
DTSTART;TZID=Europe/Paris:20260410T193000
DTEND;TZID=Europe/Paris:20260410T213000
DTSTAMP:20260421T120630
CREATED:20250723T093752Z
LAST-MODIFIED:20250724T105949Z
UID:2169-1775849400-1775856600@dojokun.fr
SUMMARY:Cours  C. Noires & Marrons 25-26
DESCRIPTION:GANKAKU\nKihon Reactif
URL:https://dojokun.fr/event/cours-c-noires-marrons-25-26-8/
LOCATION:DOJOKUN\, ZA 1\, rue Barthélemy Contestin\, Fourques\, 30300\, France
CATEGORIES:COURS CN
ATTACH;FMTTYPE=image/png:https://dojokun.fr/wp-content/uploads/2020/08/adultes-e1690108239292.png
ORGANIZER;CN="dojokun":MAILTO:contact@dojokun.net
END:VEVENT
BEGIN:VEVENT
DTSTART;TZID=Europe/Paris:20260327T193000
DTEND;TZID=Europe/Paris:20260327T213000
DTSTAMP:20260421T120630
CREATED:20250723T093751Z
LAST-MODIFIED:20250724T105756Z
UID:2168-1774639800-1774647000@dojokun.fr
SUMMARY:Cours  C. Noires & Marrons 25-26
DESCRIPTION:WANKAN (les 2 formes)\n4 * 10 Techniques
URL:https://dojokun.fr/event/cours-c-noires-marrons-25-26-7/
CATEGORIES:COURS CN
ATTACH;FMTTYPE=image/png:https://dojokun.fr/wp-content/uploads/2020/08/adultes-e1690108239292.png
ORGANIZER;CN="dojokun":MAILTO:contact@dojokun.net
END:VEVENT
BEGIN:VEVENT
DTSTART;TZID=Europe/Paris:20260321T150000
DTEND;TZID=Europe/Paris:20260322T160000
DTSTAMP:20260421T120630
CREATED:20250722T102304Z
LAST-MODIFIED:20250827T172155Z
UID:2081-1774105200-1774195200@dojokun.fr
SUMMARY:Stage Sensei P. LECOURT – Mars 2026
DESCRIPTION:Nb de participants inscrits : 17	\n		Je m'inscrisJe m'inscris\n\n	Rejoignez nous 17 autres 	\n\n	\n\n		\n		\n		\n		\n			\n			\n	\n\n		Prénom*\n		\n				\n						\n\n\n\n		Nom*\n		\n				\n						\n\n\n\n		Email*\n		\n				\n						\n\n\n\n		Téléphone*\n		\n				\n						\n\n\n\n		Indiquer votre choix : (Stage Complet/ Samedi / Dimanche / Cours CN)*\n		\n				\n						\n\n\n\n		Quel est le résultat de l'opération : 5 + 3*\n		\n				\n						\n\n\n		\n\n		\n			Comments\n			\n				\n				Si vous êtes un humain\, ne remplissez pas ce champ \n			\n		\n\n		\n			\n		\n\n	\n\n	\n			\n\n\n		\n			Déjà enregistré?\n			Déjà enregistré? \n\n			\n				Utilisez cet outil pour gérer votre inscription. \n				\n\n					\n						\n							Entrez votre adresse email enregistrée*\n							\n								\n							\n						\n												\n													\n											\n				\n			\n		\n			\n\n\n\n\n\n\n\nL’école de karaté shotokan Dojokun de Fourques organise un stage sous la direction de Pascal Lecourt – 7ème DAN – instructeur international.Participer à un stage de Pascal Lecourt est à chaque fois un voyage différent. \n\n\n\nD’une précision technique sans concession\, enthousiaste et généreux dans l’enseignement\, doué d’un sens de la pédagogie peu commun\, il sait s’adapter à chacun\, quel que soit son niveau.Alors\, réservez votre Week-End des 21 & 22 mars 2026 et venez nous rejoindre pour prendre une bouffée d’énergie à la source du karaté traditionnel.Horaires des cours :Samedi : de 15h00 à 18h30 (2 cours)Dimanche : de 09h00 à 12h15 (2 cours)Coût du stage complet : 55€Samedi ou dimanche : 35€
URL:https://dojokun.fr/event/stage-sensei-p-lecourt-mars/
LOCATION:Gymnase VAN GOGH\, Rue tour des jonquets\, Grifeuille\, ARLES\, 13200\, France
CATEGORIES:STAGE
ATTACH;FMTTYPE=image/jpeg:https://dojokun.fr/wp-content/uploads/2024/08/DJK-Stage-Mars-2026-PLECOURT.jpg
END:VEVENT
BEGIN:VEVENT
DTSTART;TZID=Europe/Paris:20260213T193000
DTEND;TZID=Europe/Paris:20260213T213000
DTSTAMP:20260421T120630
CREATED:20250723T093751Z
LAST-MODIFIED:20250724T105620Z
UID:2167-1771011000-1771018200@dojokun.fr
SUMMARY:Cours  C. Noires & Marrons 25-26
DESCRIPTION:NINJU SHIHO\nEnchainement S. Kase 2
URL:https://dojokun.fr/event/cours-c-noires-marrons-25-26-6/
LOCATION:DOJOKUN\, ZA 1\, rue Barthélemy Contestin\, Fourques\, 30300\, France
CATEGORIES:COURS CN
ATTACH;FMTTYPE=image/png:https://dojokun.fr/wp-content/uploads/2020/08/adultes-e1690108239292.png
ORGANIZER;CN="dojokun":MAILTO:contact@dojokun.net
END:VEVENT
BEGIN:VEVENT
DTSTART;TZID=Europe/Paris:20260130T193000
DTEND;TZID=Europe/Paris:20260130T213000
DTSTAMP:20260421T120630
CREATED:20250723T093750Z
LAST-MODIFIED:20250724T105446Z
UID:2166-1769801400-1769808600@dojokun.fr
SUMMARY:Cours  C. Noires & Marrons 25-26
DESCRIPTION:HANGETSU\nEnchainement S. Shirai 1
URL:https://dojokun.fr/event/cours-c-noires-marrons-25-26-5/
LOCATION:DOJOKUN\, ZA 1\, rue Barthélemy Contestin\, Fourques\, 30300\, France
CATEGORIES:COURS CN
ATTACH;FMTTYPE=image/png:https://dojokun.fr/wp-content/uploads/2020/08/adultes-e1690108239292.png
ORGANIZER;CN="dojokun":MAILTO:contact@dojokun.net
END:VEVENT
BEGIN:VEVENT
DTSTART;TZID=Europe/Paris:20251219T193000
DTEND;TZID=Europe/Paris:20251219T213000
DTSTAMP:20260421T120630
CREATED:20250723T093750Z
LAST-MODIFIED:20250724T105336Z
UID:2165-1766172600-1766179800@dojokun.fr
SUMMARY:Cours  C. Noires & Marrons 25-26
DESCRIPTION:KANKU-DAI\nTEN NO KATA (PL)
URL:https://dojokun.fr/event/cours-c-noires-marrons-25-26-4/
LOCATION:DOJOKUN\, ZA 1\, rue Barthélemy Contestin\, Fourques\, 30300\, France
CATEGORIES:COURS CN
ATTACH;FMTTYPE=image/png:https://dojokun.fr/wp-content/uploads/2020/08/adultes-e1690108239292.png
ORGANIZER;CN="dojokun":MAILTO:contact@dojokun.net
END:VEVENT
BEGIN:VEVENT
DTSTART;TZID=Europe/Paris:20251128T193000
DTEND;TZID=Europe/Paris:20251128T213000
DTSTAMP:20260421T120630
CREATED:20250723T093750Z
LAST-MODIFIED:20250724T105213Z
UID:2164-1764358200-1764365400@dojokun.fr
SUMMARY:Cours  C. Noires & Marrons 25-26
DESCRIPTION:GOJO SHIHO DAI\nEnchainement S. Enoéda
URL:https://dojokun.fr/event/cours-c-noires-marrons-25-26-3/
LOCATION:DOJOKUN\, ZA 1\, rue Barthélemy Contestin\, Fourques\, 30300\, France
CATEGORIES:COURS CN
ATTACH;FMTTYPE=image/png:https://dojokun.fr/wp-content/uploads/2020/08/adultes-e1690108239292.png
ORGANIZER;CN="dojokun":MAILTO:contact@dojokun.net
END:VEVENT
BEGIN:VEVENT
DTSTART;TZID=America/Iqaluit:20251122T150000
DTEND;TZID=America/Iqaluit:20251123T160000
DTSTAMP:20260421T120630
CREATED:20250722T104018Z
LAST-MODIFIED:20250827T172010Z
UID:1732-1763823600-1763913600@dojokun.fr
SUMMARY:Stage Sensei P. LECOURT – Novembre 2025
DESCRIPTION:L’école de karaté shotokan Dojokun de Fourques organise un stage sous la direction de Pascal Lecourt – 7ème DAN – instructeur international.  \n\n\n\nParticiper à un stage de Pascal Lecourt est à chaque fois un voyage différent. \n\n\n\nD’une précision technique sans concession\, enthousiaste et généreux dans l’enseignement\, doué d’un sens de la pédagogie peu commun\, il sait s’adapter à chacun\, quel que soit son niveau.Alors\, réservez votre Week-End des 22 & 23 novembre 2025 et venez nous rejoindre pour prendre une bouffée d’énergie à la source du karaté traditionnel.Horaires des cours :Samedi : de 15h00 à 18h30 (2 cours)Dimanche : de 09h00 à 12h15 (2 cours)Coût du stage complet : 55€Samedi ou dimanche : 35€ \n\n\n\n  \n\n\n\n  \n\n\n\n \n\n\n\n  \n\n\n\n\n\n\n\n\n\n\n\nStage ouvert à tous les grades\, à partir de 13 ans.
URL:https://dojokun.fr/event/stage-karate-sensei-p-lecourt-nov/
LOCATION:Gymnase VAN GOGH\, Rue de la tour des Jonquets\, Arles\, 13200\, France
CATEGORIES:STAGE
ATTACH;FMTTYPE=image/jpeg:https://dojokun.fr/wp-content/uploads/2023/12/DJK-Stage-Nov-2025-PLECOURT.jpg
ORGANIZER;CN="dojokun":MAILTO:contact@dojokun.net
END:VEVENT
BEGIN:VEVENT
DTSTART;TZID=Europe/Paris:20251017T193000
DTEND;TZID=Europe/Paris:20251017T213000
DTSTAMP:20260421T120630
CREATED:20250723T093750Z
LAST-MODIFIED:20250724T105013Z
UID:2163-1760729400-1760736600@dojokun.fr
SUMMARY:Cours  C. Noires & Marrons 25-26
DESCRIPTION:UNSU\nJIN NO KATA
URL:https://dojokun.fr/event/cours-c-noires-marrons-25-26-2/
LOCATION:DOJOKUN\, ZA 1\, rue Barthélemy Contestin\, Fourques\, 30300\, France
CATEGORIES:COURS CN
ATTACH;FMTTYPE=image/png:https://dojokun.fr/wp-content/uploads/2020/08/adultes-e1690108239292.png
ORGANIZER;CN="dojokun":MAILTO:contact@dojokun.net
END:VEVENT
BEGIN:VEVENT
DTSTART;TZID=Europe/Paris:20250926T193000
DTEND;TZID=Europe/Paris:20250926T213000
DTSTAMP:20260421T120630
CREATED:20250723T093750Z
LAST-MODIFIED:20250723T094751Z
UID:2162-1758915000-1758922200@dojokun.fr
SUMMARY:Cours  C. Noires & Marrons 25-26
DESCRIPTION:HEIAN / TEKKI SHODAN\nEnchainement S. P LECOURT
URL:https://dojokun.fr/event/cours-c-noires-marrons-25-26/
CATEGORIES:COURS CN
ATTACH;FMTTYPE=image/png:https://dojokun.fr/wp-content/uploads/2020/08/adultes-e1690108239292.png
ORGANIZER;CN="dojokun":MAILTO:contact@dojokun.net
END:VEVENT
BEGIN:VEVENT
DTSTART;TZID=Europe/Paris:20250921T100000
DTEND;TZID=Europe/Paris:20250921T170000
DTSTAMP:20260421T120630
CREATED:20230815T154647Z
LAST-MODIFIED:20250724T113731Z
UID:1694-1758448800-1758474000@dojokun.fr
SUMMARY:Journée des associations 2025
DESCRIPTION:Envie de découvrir le karaté traditionnel ? \n\n\n\nL’école Shotokan Dojokun de Fourques vous donne rendez-vous à la Fête des associations d’Arles\, le samedi 21 septembre ! \n\n\n\n Démonstration (horaire à préciser) : venez voir nos pratiquants à l’œuvre avec des enchaînements techniques\, katas\, bunkaï et kumité. Une belle occasion d’observer le fruit du travail accompli toute l’année au dojo ! \n\n\n\n Que vous soyez curieux\, débutant\, ou déjà passionné\, c’est le moment idéal pour : \n\n\n\n– poser vos questions\, \n\n\n\n– rencontrer les enseignants et les élèves\, \n\n\n\n– et pourquoi pas\, faire le premier pas sur la voie du karaté ! \n\n\n\n Les pratiquants du dojo sont invités comme chaque année à venir partager leur passion et représenter notre école dans une ambiance conviviale. \n\n\n\nRejoignez-nous\, on vous attend nombreux !
URL:https://dojokun.fr/event/journee-des-associations-2023/
CATEGORIES:COM
ATTACH;FMTTYPE=image/jpeg:https://dojokun.fr/wp-content/uploads/2023/08/Asso2025Arles.jpg
END:VEVENT
BEGIN:VEVENT
DTSTART;TZID=Europe/Paris:20250901T180000
DTEND;TZID=Europe/Paris:20250901T213000
DTSTAMP:20260421T120630
CREATED:20250729T163906Z
LAST-MODIFIED:20250729T163907Z
UID:2231-1756749600-1756762200@dojokun.fr
SUMMARY:Reprise des cours
DESCRIPTION:✨ Fini les tongs\, on ressort le kimono !✨ Fini les grasses matinées\, on retrouve l’énergie du tatami ! \n\n\n\n📅 La reprise des cours approche à grands pas à l’école de Karaté Shotokan Dojokun de Fourques : il est temps de se remettre en mouvement\, de retravailler ses katas\, et de progresser ensemble\, avec bienveillance et détermination. \n\n\n\n👶👧🧑 Débutants\, Gradés\,…Enfants\, Ados\, Adultes… Il y a une place pour chacun ! \n\n\n\n🎯 Objectif : une année riche en apprentissages\, en progrès\, en sueur… et en sourires ! \n\n\n\nRepriseKaraté #DépassementDeSoi #ReprendreLeRythme #TatamiTime #DojoLife #RentréeSportive #MotivéPourLaRentrée #KarateDojokun
URL:https://dojokun.fr/event/reprise-des-cours/
LOCATION:DOJOKUN\, ZA 1\, rue Barthélemy Contestin\, Fourques\, 30300\, France
ATTACH;FMTTYPE=image/png:https://dojokun.fr/wp-content/uploads/2025/07/Reprise.png
END:VEVENT
BEGIN:VEVENT
DTSTART;TZID=Europe/Paris:20250620T193000
DTEND;TZID=Europe/Paris:20250620T213000
DTSTAMP:20260421T120630
CREATED:20240819T164247Z
LAST-MODIFIED:20240820T160544Z
UID:1957-1750447800-1750455000@dojokun.fr
SUMMARY:Cours C. Noires & Marrons
DESCRIPTION:Travail Kata Ji’In & révision enchainements
URL:https://dojokun.fr/event/cours-c-noires-marrons-10/
CATEGORIES:COURS CN
ATTACH;FMTTYPE=image/png:https://dojokun.fr/wp-content/uploads/2020/08/adultes-e1690108239292.png
ORGANIZER;CN="dojokun":MAILTO:contact@dojokun.net
END:VEVENT
BEGIN:VEVENT
DTSTART;TZID=Europe/Paris:20250523T193000
DTEND;TZID=Europe/Paris:20250523T213000
DTSTAMP:20260421T120630
CREATED:20240819T164247Z
LAST-MODIFIED:20240820T160501Z
UID:1956-1748028600-1748035800@dojokun.fr
SUMMARY:Cours C. Noires & Marrons
DESCRIPTION:Travail Kata Tekki II et III & application enchainement SW hanches
URL:https://dojokun.fr/event/cours-c-noires-marrons-9/
CATEGORIES:COURS CN
ATTACH;FMTTYPE=image/png:https://dojokun.fr/wp-content/uploads/2020/08/adultes-e1690108239292.png
ORGANIZER;CN="dojokun":MAILTO:contact@dojokun.net
END:VEVENT
BEGIN:VEVENT
DTSTART;TZID=Europe/Paris:20250425T193000
DTEND;TZID=Europe/Paris:20250425T213000
DTSTAMP:20260421T120630
CREATED:20240820T075935Z
LAST-MODIFIED:20240820T151829Z
UID:2027-1745609400-1745616600@dojokun.fr
SUMMARY:Cours C. Noires & Marrons
DESCRIPTION:Travail Kata Sochin & enchainement SW hanches
URL:https://dojokun.fr/event/cours-c-noires-marrons-8/
CATEGORIES:COURS CN
ATTACH;FMTTYPE=image/png:https://dojokun.fr/wp-content/uploads/2020/08/adultes-e1690108239292.png
ORGANIZER;CN="dojokun":MAILTO:contact@dojokun.net
END:VEVENT
END:VCALENDAR